BEGIN:VCALENDAR
VERSION:2.0
PRODID:-//IP.Board Calendar 4.5.4//EN
METHOD:PUBLISH
CALSCALE:GREGORIAN
X-WR-CALNAME:Community Calendar
BEGIN:VTIMEZONE
TZID:Europe/London
TZURL:http://tzurl.org/zoneinfo/Europe/London
X-LIC-LOCATION:Europe/London
BEGIN:DAYLIGHT
TZOFFSETFROM:+0000
TZOFFSETTO:+0100
TZNAME:BST
DTSTART:20180325T020000Z
RRULE:FREQ=YEARLY;BYMONTH=3;BYDAY=-1SU
END:DAYLIGHT
BEGIN:STANDARD
TZOFFSETFROM:+0100
TZOFFSETTO:+0000
TZNAME:GMT
DTSTART:20181028T020000Z
RRULE:FREQ=YEARLY;BYMONTH=10;BYDAY=-1SU
END:STANDARD
END:VTIMEZONE
BEGIN:VEVENT
SUMMARY:Habitat For Humanity - Volunteering
DTSTAMP:20181229T232144Z
SEQUENCE:0
UID:54-1-fe5d9c6f9f68e8123e9dcb41013fa255@www.mymilitia.com
ORGANIZER;CN="My Militia":mail@mymilitia.com
DESCRIPTION:We have 20 spots available. Please mark your calendars and p
	lanaccordingly if you select to go. \n\nOnce we hit 20 this event will be 
	full.Unless a spot opens up \, 20 is the limit.\n\n\nMake sure to bring yo
	ur lunch and plenty of water. Dress for the weather and in clothes you don
	’t mind working on and or getting dirty.\n\n\nWe ask for everyone’s su
	pport and commitment to this event!\n\n\nThe address for the build will be
	 provided shortly.
DTSTART:20181020T130000Z
DTEND:20181020T200000Z
END:VEVENT
END:VCALENDAR
