BEGIN:VCALENDAR
VERSION:2.0
PRODID:-//IP.Board Calendar 4.5.4//EN
METHOD:PUBLISH
CALSCALE:GREGORIAN
X-WR-CALNAME:Community Calendar
BEGIN:VTIMEZONE
TZID:Europe/London
TZURL:http://tzurl.org/zoneinfo/Europe/London
X-LIC-LOCATION:Europe/London
BEGIN:DAYLIGHT
TZOFFSETFROM:+0000
TZOFFSETTO:+0100
TZNAME:BST
DTSTART:20180325T020000Z
RRULE:FREQ=YEARLY;BYMONTH=3;BYDAY=-1SU
END:DAYLIGHT
BEGIN:STANDARD
TZOFFSETFROM:+0100
TZOFFSETTO:+0000
TZNAME:GMT
DTSTART:20181028T020000Z
RRULE:FREQ=YEARLY;BYMONTH=10;BYDAY=-1SU
END:STANDARD
END:VTIMEZONE
BEGIN:VEVENT
SUMMARY:New Member Meeting - Champions
DTSTAMP:20181229T232144Z
SEQUENCE:0
UID:56-1-fe5d9c6f9f68e8123e9dcb41013fa255@www.mymilitia.com
ORGANIZER;CN="My Militia":mail@mymilitia.com
DESCRIPTION:Brotherhood begins here with good food\, good stories\, and 
	like-minded purpose. \n\n\nNew members and old are invited to come Wednesd
	ay\, Aug 22nd to Spring Creek Barbeque for a chance to meet with TSM Houst
	on command staff and eat BBQ. \n\n\nAt this relaxed event\, new members wi
	ll officially report present\, hear TSM's mission statement\, policies and
	 training schedule\, as well as meet the group.\n\n\nFYI: There are 2 simu
	ltaneous events.  One at Spring Creek BBQ in Champions and one at Spring C
	reek BBQ in Pearland.\n\n\nTake a second to fill out our contact form and 
	let us know you are coming!\n\nhttp://tsmhouston.org/apply-to-join/
DTSTART:20180823T000000Z
DTEND:20180823T020000Z
END:VEVENT
END:VCALENDAR
