BEGIN:VCALENDAR
VERSION:2.0
PRODID:-//IP.Board Calendar 4.5.4//EN
METHOD:PUBLISH
CALSCALE:GREGORIAN
X-WR-CALNAME:Community Calendar
BEGIN:VTIMEZONE
TZID:Europe/London
TZURL:http://tzurl.org/zoneinfo/Europe/London
X-LIC-LOCATION:Europe/London
BEGIN:DAYLIGHT
TZOFFSETFROM:+0000
TZOFFSETTO:+0100
TZNAME:BST
DTSTART:20190331T020000Z
RRULE:FREQ=YEARLY;BYMONTH=3;BYDAY=-1SU
END:DAYLIGHT
BEGIN:STANDARD
TZOFFSETFROM:+0100
TZOFFSETTO:+0000
TZNAME:GMT
DTSTART:20191027T020000Z
RRULE:FREQ=YEARLY;BYMONTH=10;BYDAY=-1SU
END:STANDARD
END:VTIMEZONE
BEGIN:VEVENT
SUMMARY:end of training
DTSTAMP:20190107T024923Z
SEQUENCE:0
UID:60-1-fe5d9c6f9f68e8123e9dcb41013fa255@www.mymilitia.com
ORGANIZER;CN="Dixie Southern Minutemen":mail@mymilitia.com
DESCRIPTION:\n	to all dsm member there is a meet and train starting on t
	he 31 of may and ending on the 2 of jume \n
DTSTART;VALUE=DATE:20190602
ATTENDEE;CN="Dixie Southern Minutemen";CUTYPE=INDIVIDUAL;PAR
	TSTAT=ACCEPTED:mail@mymilitia.com
END:VEVENT
END:VCALENDAR
