BEGIN:VCALENDAR
VERSION:2.0
PRODID:-//IP.Board Calendar 4.5.4//EN
METHOD:PUBLISH
CALSCALE:GREGORIAN
X-WR-CALNAME:Community Calendar
BEGIN:VTIMEZONE
TZID:Europe/London
TZURL:http://tzurl.org/zoneinfo/Europe/London
X-LIC-LOCATION:Europe/London
BEGIN:DAYLIGHT
TZOFFSETFROM:+0000
TZOFFSETTO:+0100
TZNAME:BST
DTSTART:20180325T020000Z
RRULE:FREQ=YEARLY;BYMONTH=3;BYDAY=-1SU
END:DAYLIGHT
BEGIN:STANDARD
TZOFFSETFROM:+0100
TZOFFSETTO:+0000
TZNAME:GMT
DTSTART:20181028T020000Z
RRULE:FREQ=YEARLY;BYMONTH=10;BYDAY=-1SU
END:STANDARD
END:VTIMEZONE
BEGIN:VEVENT
SUMMARY:2nd Amendment Rally
DTSTAMP:20180322T233147Z
SEQUENCE:0
UID:7-1-fe5d9c6f9f68e8123e9dcb41013fa255@www.mymilitia.com
ORGANIZER;CN="Guest":mail@mymilit
	ia.com
DESCRIPTION:\n\n	https://www.facebook.com/events/169777927003123/?active
	_tab=about\n\n\n\n	Everyday our freedoms are eroded by the leftist liberal
	 Democratic GUN CONTROL agenda. It seems now even the Republican party and
	 the NRA are willing to continue to give in! It's time to make your voices
	 heard. Bring everyone you know\, make signs\, bring American flags\, and 
	the family. Open-carry is welcome. Join us to make a big statement to the 
	rest of the nation. We will be contacting all News media we can to make su
	re it is seen across America. We want the News to know what the people of 
	America really want\, and it’s not more gun control! * PLEASE NOTE THIS 
	EVENT IS AN EVENT FOR ALL.\n\n\n	*CCW CARRY IS WELCOME\n\n	*OPEN CARRY HOL
	STERED IS WELCOME\n\n	*LONG GUN / OR AR15 PISTOL AND VARIANTS SHOTGUNS ETC
	 - CARRY IS WELCOME - UNLOADED ONLY - NO MAGS IN THE MAGWELL - A FLAG MUST
	 BE IN THE CHAMBER ON ALL OF THESE GUNS (ZIP TIES ARE OK). ALL LONG GUNS O
	R AR PISTOLS AND VARIANTS - MUST ALSO BE ON A SLING OVER YOUR SHOULDER ONL
	Y EITHER - POINTING UP - OR HANGING ACROSS CHEST - POINTING DOWNWARD ONLY.
	\n\n\n	YOU MAY HAVE MAGS IN YOUR TACTICAL VEST ETC BUT NOT IN A LONG GUN O
	R VARIANT PISTOL.\n\n\n	Bring signs &amp\; flags supporting our 2nd amendm
	ent. Let's send a loud message that no one will take our 2nd Amendment awa
	y.\n\n\n	Dress for the weather.\n\n
DTSTART:20180324T160000Z
DTEND:20180324T200000Z
END:VEVENT
END:VCALENDAR
