BEGIN:VCALENDAR
VERSION:2.0
PRODID:-//IP.Board Calendar 4.5.4//EN
METHOD:PUBLISH
CALSCALE:GREGORIAN
X-WR-CALNAME:Community Calendar
BEGIN:VTIMEZONE
TZID:Europe/London
TZURL:http://tzurl.org/zoneinfo/Europe/London
X-LIC-LOCATION:Europe/London
BEGIN:DAYLIGHT
TZOFFSETFROM:+0000
TZOFFSETTO:+0100
TZNAME:BST
DTSTART:20190331T020000Z
RRULE:FREQ=YEARLY;BYMONTH=3;BYDAY=-1SU
END:DAYLIGHT
BEGIN:STANDARD
TZOFFSETFROM:+0100
TZOFFSETTO:+0000
TZNAME:GMT
DTSTART:20191027T020000Z
RRULE:FREQ=YEARLY;BYMONTH=10;BYDAY=-1SU
END:STANDARD
END:VTIMEZONE
BEGIN:VEVENT
SUMMARY:Sunday Night Militia Chat
DTSTAMP:20190307T010823Z
SEQUENCE:0
UID:83-1-fe5d9c6f9f68e8123e9dcb41013fa255@www.mymilitia.com
ORGANIZER;CN="fixer":mail@mymilitia.com
DESCRIPTION:\n\n	Go Here: https://www.mymilitia.com/discord/invite/BGAd
	CqR/\n\n\n\n	 \n\n\n\n	\n\n
DTSTART:20190308T010000Z
RRULE:FREQ=WEEKLY;INTERVAL=1;UNTIL=20191231T050000;BYDAY=SU
END:VEVENT
END:VCALENDAR
