BEGIN:VCALENDAR
VERSION:2.0
PRODID:-//IP.Board Calendar 4.5.4//EN
METHOD:PUBLISH
CALSCALE:GREGORIAN
X-WR-CALNAME:Community Calendar
BEGIN:VTIMEZONE
TZID:Europe/London
TZURL:http://tzurl.org/zoneinfo/Europe/London
X-LIC-LOCATION:Europe/London
BEGIN:DAYLIGHT
TZOFFSETFROM:+0000
TZOFFSETTO:+0100
TZNAME:BST
DTSTART:20190331T020000Z
RRULE:FREQ=YEARLY;BYMONTH=3;BYDAY=-1SU
END:DAYLIGHT
BEGIN:STANDARD
TZOFFSETFROM:+0100
TZOFFSETTO:+0000
TZNAME:GMT
DTSTART:20191027T020000Z
RRULE:FREQ=YEARLY;BYMONTH=10;BYDAY=-1SU
END:STANDARD
END:VTIMEZONE
BEGIN:VEVENT
SUMMARY:Flags for the Fallen
DTSTAMP:20190509T021821Z
SEQUENCE:1
UID:93-1-fe5d9c6f9f68e8123e9dcb41013fa255@www.mymilitia.com
ORGANIZER;CN="Guest":mail@mymilit
	ia.com
DESCRIPTION:We will be assisting with placing flags on the graves of tho
	se that have served this incredible country. This event is limited to 15 s
	potsas other groups are joining the effort. There will be about 1600 flags
	 to place. If you have children with you that you want to attend please le
	t me know. Just click if you are going\, don't need to know if you are bus
	y or can not make it. Actual hours of the event will be adjusted closer to
	 the event. Most likely it will be a early event. Lunch will be provided.\
	n\n\nThis event counts towards your community service hours for Texas Stat
	e Militia.
DTSTART:20190526T130000Z
DTEND:20190526T200000Z
END:VEVENT
END:VCALENDAR
