BEGIN:VCALENDAR
VERSION:2.0
PRODID:-//IP.Board Calendar 4.5.4//EN
METHOD:PUBLISH
CALSCALE:GREGORIAN
X-WR-CALNAME:Community Calendar
BEGIN:VTIMEZONE
TZID:Europe/London
TZURL:http://tzurl.org/zoneinfo/Europe/London
X-LIC-LOCATION:Europe/London
BEGIN:DAYLIGHT
TZOFFSETFROM:+0000
TZOFFSETTO:+0100
TZNAME:BST
DTSTART:20190331T020000Z
RRULE:FREQ=YEARLY;BYMONTH=3;BYDAY=-1SU
END:DAYLIGHT
BEGIN:STANDARD
TZOFFSETFROM:+0100
TZOFFSETTO:+0000
TZNAME:GMT
DTSTART:20191027T020000Z
RRULE:FREQ=YEARLY;BYMONTH=10;BYDAY=-1SU
END:STANDARD
END:VTIMEZONE
BEGIN:VEVENT
SUMMARY:USFA M&G/ Range event Florida
DTSTAMP:20190616T163728Z
SEQUENCE:0
UID:99-1-fe5d9c6f9f68e8123e9dcb41013fa255@www.mymilitia.com
ORGANIZER;CN="Bear7":mail@mymilitia.com
DESCRIPTION:\n\n	USFA (US Freedom Army)\n\n\n\n	   LEWIS D WHITAKER RA
	NGE \n\n\n\n	Oceola National Forest\, Lake City Area Florida\n\n\n\n	Meet
	\, and Greet Range Trip.\n\n\n\n	  Come One\, Come All.. bring friends a
	nd Ya Family \n\n\n\n	 \n\n\n\n	 \n\n\n\n	Here is the link. https://myf
	wc.com/hunting/safety-education/shooting-ranges/osceola/\n\n
DTSTART:20190803T134600Z
END:VEVENT
END:VCALENDAR
